BEGIN:VCALENDAR
VERSION:2.0
PRODID:-//Professional Bartender Training Academy - ECPv6.15.20//NONSGML v1.0//EN
CALSCALE:GREGORIAN
METHOD:PUBLISH
X-WR-CALNAME:Professional Bartender Training Academy
X-ORIGINAL-URL:https://professionalbartendertraining.com
X-WR-CALDESC:Events for Professional Bartender Training Academy
REFRESH-INTERVAL;VALUE=DURATION:PT1H
X-Robots-Tag:noindex
X-PUBLISHED-TTL:PT1H
BEGIN:VTIMEZONE
TZID:America/New_York
BEGIN:DAYLIGHT
TZOFFSETFROM:-0500
TZOFFSETTO:-0400
TZNAME:EDT
DTSTART:20250309T070000
END:DAYLIGHT
BEGIN:STANDARD
TZOFFSETFROM:-0400
TZOFFSETTO:-0500
TZNAME:EST
DTSTART:20251102T060000
END:STANDARD
BEGIN:DAYLIGHT
TZOFFSETFROM:-0500
TZOFFSETTO:-0400
TZNAME:EDT
DTSTART:20260308T070000
END:DAYLIGHT
BEGIN:STANDARD
TZOFFSETFROM:-0400
TZOFFSETTO:-0500
TZNAME:EST
DTSTART:20261101T060000
END:STANDARD
BEGIN:DAYLIGHT
TZOFFSETFROM:-0500
TZOFFSETTO:-0400
TZNAME:EDT
DTSTART:20270314T070000
END:DAYLIGHT
BEGIN:STANDARD
TZOFFSETFROM:-0400
TZOFFSETTO:-0500
TZNAME:EST
DTSTART:20271107T060000
END:STANDARD
END:VTIMEZONE
BEGIN:VEVENT
DTSTART;TZID=America/New_York:20260825T180000
DTEND;TZID=America/New_York:20260825T220000
DTSTAMP:20260423T063610
CREATED:20260422T203031Z
LAST-MODIFIED:20260422T203031Z
UID:10000054-1787680800-1787695200@professionalbartendertraining.com
SUMMARY:Bartender Training Class in Cape Coral/Ft Myers\, FL – August 25
DESCRIPTION:Our hands-on bartending class in Ft Myers\, FL gives you the practical experience and industry knowledge needed to start working behind the bar with confidence. This 12-hour bartender training course is split into three weekly sessions and covers drink preparation\, bar setup\, customer service\, and real-world bar operations. Students from Ft Myers\, Cape Coral\, and Southwest Florida attend this program to quickly gain the skills bars\, restaurants\, and hospitality venues look for when hiring new bartenders.
URL:https://professionalbartendertraining.com/event/bartender-training-class-in-cape-coral-ft-myers-fl-august-25/
LOCATION:Hampton Inn & Suites – Cape Coral/Fort Myers Area\, FL\, 619 S.E. 47th Terrace\, Cape Coral\, 33904\, United States
CATEGORIES:FL,Fort Myers
END:VEVENT
BEGIN:VEVENT
DTSTART;TZID=America/New_York:20260826T180000
DTEND;TZID=America/New_York:20260826T220000
DTSTAMP:20260423T063610
CREATED:20260422T203119Z
LAST-MODIFIED:20260422T203119Z
UID:10000055-1787767200-1787781600@professionalbartendertraining.com
SUMMARY:Bartender Training Class in Tampa\, FL – August 26
DESCRIPTION:Our hands-on bartending class in Tampa\, FL gives you the practical experience and industry knowledge needed to start working behind the bar with confidence. This 12-hour bartender training course is split into three weekly sessions and covers drink preparation\, bar setup\, customer service\, and real-world bar operations. Students from Tampa\, St. Petersburg\, and the greater Tampa Bay area attend this program to gain the skills bars and restaurants look for when hiring new bartenders.
URL:https://professionalbartendertraining.com/event/bartender-training-class-in-tampa-fl-august-26/
LOCATION:Hampton Inn & Suites Tampa Riverview Brandon\, 10240 Causeway Blvd\, Tampa\, 33619\, United States
CATEGORIES:FL,Tampa
END:VEVENT
BEGIN:VEVENT
DTSTART;TZID=America/New_York:20260827T180000
DTEND;TZID=America/New_York:20260827T220000
DTSTAMP:20260423T063610
CREATED:20260422T203224Z
LAST-MODIFIED:20260422T203224Z
UID:10000056-1787853600-1787868000@professionalbartendertraining.com
SUMMARY:Bartender Training Class in Daytona\, FL – August 27
DESCRIPTION:Our hands-on bartending class in Daytona Beach\, FL gives you the practical experience and industry knowledge needed to start working behind the bar with confidence. This 12-hour bartender training course is split into three weekly sessions and covers drink preparation\, bar setup\, customer service\, and real-world bar operations. Students from Daytona Beach\, Ormond Beach\, Port Orange\, and the greater Volusia County area attend this program to gain the skills bars\, restaurants\, and hospitality venues look for when hiring new bartenders
URL:https://professionalbartendertraining.com/event/bartender-training-class-in-daytona-fl-august-27/
LOCATION:Hampton Inn Daytona/Ormond Beach\, 155 Interchange Blvd\, Ormond Beach\, Daytona\, FL\, 32174\, United States
CATEGORIES:Daytona,FL
END:VEVENT
BEGIN:VEVENT
DTSTART;TZID=America/New_York:20260922T180000
DTEND;TZID=America/New_York:20260922T220000
DTSTAMP:20260423T063610
CREATED:20250918T140105Z
LAST-MODIFIED:20260416T182109Z
UID:10000037-1790100000-1790114400@professionalbartendertraining.com
SUMMARY:Bartender Training Class in Syracuse\, NY
DESCRIPTION:Our hands-on bartending class gives you the practical experience and industry knowledge to be an effective and confident bartender. This 12-hour course is split into three weekly sessions.
URL:https://professionalbartendertraining.com/event/bartender-training-class-in-syracuse-ny/
LOCATION:Hilton Garden Inn Syracuse\, 6004 Fair Lakes Rd\, East Syracuse\, Syracuse\, NY\, 13057\, United States
CATEGORIES:NY,Syracuse
END:VEVENT
END:VCALENDAR